BEGIN:VCALENDAR
VERSION:2.0
PRODID:-//Bhakti Shala - ECPv4.6.21//NONSGML v1.0//EN
CALSCALE:GREGORIAN
METHOD:PUBLISH
X-WR-CALNAME:Bhakti Shala
X-ORIGINAL-URL:https://shala.pl
X-WR-CALDESC:Events for Bhakti Shala
BEGIN:VEVENT
DTSTART;TZID=UTC+1:20180318T120000
DTEND;TZID=UTC+1:20180318T150000
DTSTAMP:20260421T112207
CREATED:20180226T130417Z
LAST-MODIFIED:20180314T111916Z
UID:5040-1521374400-1521385200@shala.pl
SUMMARY:Wprowadzenie do Aerial Yoga: Warsztat ABC - brak miejsc
DESCRIPTION:Wprowadzenie do Aerial Yoga to wspaniała okazja by rozpocząć przygodę z niesamowitą praktyką w hamaku. Niech Twoje pierwsze kroki będą uważne i bezpieczne – poznaj zasady praktyki i zaprzyjaźnij się z hamakiem.\nZAPISY POD OPISEM. Ilość miejsc ograniczona do 9! W celach organizacyjnych i indywidualizacji nauczania.\nAerial Yoga to intensywnie rozwijająca się praktyka interdyscyplinarna łącząca w sobie elementy wielu technik\, takich jak: joga\, taniec\, pilates\, akrobatyka\, masaż\, stretching i wiele innych. \n Joga na hamakach bądź joga w chustach to wciąż nowa forma jogi w naszym kraju. Każdy z nas kiedyś marzył o lataniu\, a teraz to możliwe. To praktyka pokonująca prawa grawitacji – praktykujemy na chustach podwieszonych pod sufitem na stabilnym\, alpinistycznym systemie. Aerial Yoga to niesamowite przeżycie zarówno dla osób które rozpoczynają swoją przygodę z jogą\, jak i dla stałych bywalców zajęć.\n\n\nOgraniczona do sześciu ilość hamaków na sali zapewnia komfortową\, kameralną i bezpieczną atmosferę. Końcowa relaksacja w zamkniętej chuście pozwala nam poczuć się jak w łonie matki\, idealnie relaksując zmęczone ciało – regeneruje i uzdrawia. \nPraktyka prowadzona wyłącznie przez certyfikowanych nauczycieli.\n\n\n
URL:https://shala.pl/wydarzenie/wprowadzenie-do-aerial-yoga-warsztat-abc
LOCATION:ul. E. Orzeszkowej 14\, Gdańsk - Aniołki\, 80-208\, Poland
CATEGORIES:JOGA NIDRA
ATTACH;FMTTYPE=image/jpeg:https://shala.pl/wp-content/uploads/2018/02/WORK1air.jpg
END:VEVENT
END:VCALENDAR