BEGIN:VCALENDAR
VERSION:2.0
PRODID:-//Bhakti Shala - ECPv4.6.21//NONSGML v1.0//EN
CALSCALE:GREGORIAN
METHOD:PUBLISH
X-WR-CALNAME:Bhakti Shala
X-ORIGINAL-URL:https://shala.pl
X-WR-CALDESC:Events for Bhakti Shala
BEGIN:VEVENT
DTSTART;TZID=UTC+1:20240706T093000
DTEND;TZID=UTC+1:20240706T123000
DTSTAMP:20260421T141109
CREATED:20240602T145911Z
LAST-MODIFIED:20240602T153349Z
UID:19348-1720258200-1720269000@shala.pl
SUMMARY:Bhakti Joga i Joga Nidra  - Yoli Maya Yeh w POLSCE!
DESCRIPTION:Bhakti Joga i Joga Nidra \n06.07.2024\, 09:30-12:30\nMoc odpoczynku może być najistotniejszym narzędziem\, które posiadamy by poruszać się przez złożoności i paradoksy współczesnego świata. Joga Nidra jest starożytną praktyką uzdrawiania zakorzenionej w rdzennych źródłach Południowej Azji\, a podobne praktyki odpoczynku i śnienia odnajdujemy dookoła Świata. Kluczowym składnikiem w praktykę jest Nidra Shakti czyli żeńska energia\, esensja\, która odżywia adaptogeniczną jakość tej praktyki – oznacza to\, że czegokolwiek potrzeba w Twoim procesie uzdrawiania i powrotu do zdrowia\, praktyka jest wstanie to dostarczyć. \nGdy doceniamy korzenie jogi nidry w Shakta Tantrze\, wzmacniamy swój dostęp do możliwości uzdrawiania\, które zamieszkują w Tobie. Przez praktykę bhakti \, miłości lub oddania\, wytwarzamy dobrą\, uzdrawiającą energię w ciele\, która promieniuje z nas\, jak osobiste słońce. Przyjdź na poranny odpoczynek\, i świętowanie\, by odkryć prawdziwą moc regeneracji..  \n  \n  \nWarsztat prowadzony przez YOLI MAYA YEH (ona/jej) – tłumaczony częściowo na j. polski\n \nYoli Maya Yeh jest terapeutką jogi i shiatsu oraz edukatorką w dziedzinie religii porównawczych i studiów globalnych\, posiada tytuł magistra etyki religii porównawczych. Pracuje na styku zachowania rdzennych kultur\, sztuk uzdrawiania i sprawiedliwości społecznej oraz jest współzałożycielką DEIcipher Group. Wychowana w duchowych naukach swojej rdzennie amerykańskiej rodziny\, Yoli spędziła dwanaście lat młodej dorosłości na nauce języka\, jogi\, tantry\, sztuk uzdrawiania i medytacji w Indiach\, a także kontynuuje podróże i nauczanie na całym świecie. \nYoli tworzy transformującą przestrzeń uzdrawiania\, szczególnie dla trudnych do leczenia\, autoimmunologicznych\, przewlekłych schorzeń oraz niewyjaśnionych\, niezdiagnozowanych\, złożonych przypadków. Jest oddana uzdrawianiu kobiet i osób rodzących oraz oferuje wsparcie w przypadku żałoby\, straty\, utraty dziecka\, traumatycznych doświadczeń związanych z porodem i w wymiarze duchowym. \nStrona Yoli:\nwww.yogawithyoli.com\n\n\nKOSZT:\nPrzy zapisie na pojedynczy warsztat – 350PLN\nPrzy zapisie na dwa warsztaty – 650PLN\nPrzy zapisie na trzy warsztaty – 950PLN\nPrzy zapisie na weekend – 1100PLN\n\n\n\n\nPLAN WIZYTY W POLSCE (KLIKNIJ W NAZWĘ WARSZTATU) \n06.07.2024 09:30 -12:30 BHAKTI JOGA I JOGA NIDRA\n06.07.2024 14:00 – 17:00 ŚWIĄTYNIA BOGINI: DZIEWIĘĆ FORM DURGI\n07.07.2024 09:30 -12:30 ŚWIĘTA KOSMOLOGIA CIAŁA\n07.07.2024 14:00 – 17:00 UZDRAWIANIE Z PRZODKAMI\n\n\n
URL:https://shala.pl/wydarzenie/bhakti-joga-yoli
LOCATION:ul. E. Orzeszkowej 14\, Gdańsk - Aniołki\, 80-208\, Poland
ATTACH;FMTTYPE=image/jpeg:https://shala.pl/wp-content/uploads/2024/06/IMG_0070.jpg
END:VEVENT
END:VCALENDAR