BEGIN:VCALENDAR
VERSION:2.0
PRODID:-//Bhakti Shala - ECPv4.6.21//NONSGML v1.0//EN
CALSCALE:GREGORIAN
METHOD:PUBLISH
X-WR-CALNAME:Bhakti Shala
X-ORIGINAL-URL:https://shala.pl
X-WR-CALDESC:Events for Bhakti Shala
BEGIN:VEVENT
DTSTART;TZID=UTC+1:20260425T080000
DTEND;TZID=UTC+1:20260426T160000
DTSTAMP:20260421T101947
CREATED:20260327T081954Z
LAST-MODIFIED:20260327T083847Z
UID:27791-1777104000-1777219200@shala.pl
SUMMARY:Ajurweda i Joga - kurs wprowadzający - SATTVA AYURVEDA x DEVI SANGAM
DESCRIPTION:  \nAjurweda i Joga – kurs wprowadzający – SATTVA AYURVEDA x DEVI SANGAM\n  \n \nPołączenie Jogi i Ajurwedy to cudowny taniec dwóch sióstr. Dwa potężne systemy\, które przedstawione w praktyczny sposób\, pomagają odzyskać moc regeneracji. Pragniemy zaprosić Cię na wyjątkowe spotkanie\, gdzie przybliżymy Ci Jogą i Ajurwedę z zupełnie innej strony – jako wedyjskie rodzeństwo\, wspierające się i kroczące ramię w ramię. Wyczekiwana współpraca Kasi Hinduja i dr Pawła Kwaśniewskiego to filozofia spotkania i głęboki dialog odkrywający sens na nowo\, nie bojący się trudnych pytań i merytorycznych rozmów w duchu szacunku. Wszyscy są mile widziani\, szczególnie serdecznie zapraszamy praktyków Jogi\, nauczycieli oraz osoby zainteresowane żywą Ajurwedą. \n \nDlaczego warto dołączyć? Jest to niepowtarzalna możliwość zanurzenia się w autentycznym doświadczeniu\, bez presji i w pełnej wolności. Jeśli gdzieś w Tobie pojawiło się zainteresowanie naturalnym rytmem życia\, prostotą i otwartością na nowe postrzeganie\, to jest przestrzeń dla Ciebie. W otwartej i obejmującej przestrzeni Szkoły Jogi i Tantry BHAKTI SHALA\, pod opieką specjalistów\, odkryjesz pierwsze kroki w Ajurwedzie. \n \n  \nPlan:\nSobota 10:00 – 17:30\nWprowadzenie do Ajurwedy\nPraktyka Jogi dla Dosz z Pranajamą\nGrupa Wadżrasany i praktyki z Agni\nMasaż i terapia głowy – Kasia \nNiedziela 09:00 – 15:30\nPraktyka Poranna – Ajurwedyjska Terapia Jogą\nKonstytucja w Ajurwedzieł\nZastosowanie klasycznych produktów ajurwedyjskich w Szkole Jogi\nJoga Nidra \n  \nInwestycja: 600zł – kurs niskobudżetowy \n  \nProwadzący: \nKasia Hinduja\nSpecjalistka i praktyczka ajurwedy\, współtwórczyni marki Sattva Ayurveda. Wiedzę zdobywała u źródła\, studiując ajurwedę w Indiach (Kerala) oraz rozwijając ją poprzez wieloletnią praktykę.\nOd lat popularyzuje ajurwedę w Europie\, pokazując jej praktyczne zastosowanie w codziennym życiu – w obszarze zdrowia\, stylu życia i świadomej pielęgnacji. W Sattva Ayurveda odpowiada za rozwój merytoryczny marki\, współtworzenie produktów oraz działania edukacyjne\, w tym warsztaty poświęcone ajurwedyjskim rytmom codzienności i naturalnej pielęgnacji. \ndr Paweł Kwaśniewski\nSpecjalista EAOM (Wschodnioazjatyckiej Medycyny Orientalnej)\, praktyk ajurwedy\, technik panćakarmy. Założyciel Instytutu Studiów nad Jogą DEVI SANGAM. Edukator wedyjski\, trener kursów nauczycielskich oraz charyzmatyczny wykładowca. Ucząc na trzech kontynentach\, skupia się na autentycznym przekazie żywych tradycji Ajurwedy\, Jogi\, Tantry oraz Jyotish. W codziennej pracy z pacjentami buduje most pomiędzy wiedzą zachodu i mądrością wschodu. Wierzy\, że zdrowie jest w rękach każdego człowieka\, jeśli ten powróci do cyklicznej mądrości. \n  \n
URL:https://shala.pl/wydarzenie/yogayurveda
LOCATION:ul. E. Orzeszkowej 14\, Gdańsk - Aniołki\, 80-208\, Poland
END:VEVENT
BEGIN:VEVENT
DTSTART;TZID=UTC+1:20260725T080000
DTEND;TZID=UTC+1:20271219T170000
DTSTAMP:20260421T101947
CREATED:20241001T221250Z
LAST-MODIFIED:20260419T183226Z
UID:20643-1784966400-1829235600@shala.pl
SUMMARY:2026-2027 Międzynarodowy Kurs Nauczycielski Jogi​ - RYT200 i więcej
DESCRIPTION:Heart-Centered Hatha Vinyasa Yoga Teacher Training (RYT200)\nOPIS KURSU WRAZ ZE SZCZEGÓŁAMI PŁATNOŚCI ZNAJDZIESZ POD ADRESEM:\nhttps://shala.pl/wydarzenie/ryt ‎\nInformacje o kursie​\n \n  \n  \nMarzysz o nauczaniu jogi?  \n  \nA może o ugruntowaniu praktyki własnej? \nCechuje Cię otwartość na doświadczenia? \nByć może warto zadać sobie pytanie: czy to jest dobry czas by „nie marnować serca na strach już…„ \n  \nStudiujemy w nurcie Hatha oraz Vinyasa. To osiemnaście modułów\, które zrodzą w nas przez systematyczność i cierpliwość znacznie więcej niż samą postawę nauczycielską – to kurs poznawania siebie\, odkrywania Wewnętrznego Nauczyciela i słuchania Siebie. Nasz Kurs Heart-Centered Hatha Vinyasa Yoga Teacher Training (RYT200) wcześniej znany jako BSYTT (Bhakti Shala Yoga Teacher Training to ponad 320 godzin studiów nad sobą oraz umiejętności czytania siebie przez praktykę Jogi. \nZ dumą informujemy\, że od roku 2026. patronat nad Kursami Nauczycielskimi objęła autentyczna marka ajurwedyjska: \n \nTo również czas odkrywania talentów i głębokiej wewnętrznej pracy. \n  \nPRACTICUM\nPracticum to kluczowa część szkolenia nauczycielskiego jogi\, która pozwala przyszłym prowadzącym doskonalić umiejętności praktyczne. W ramach tej sekcji kursanci będą uczestniczyć w sesjach\, które pomogą im zrozumieć\, jak teoria jogi przekłada się na prowadzenie zajęć oraz rozwój ich indywidualnej praktyki. Program obejmuje praktyki asan\, sesje dotyczące sekwencji\, kliniki asan\, a także naukę technik oddechowych (pranajama) i medytacji. Część praktyczna pozwala studentom nie tylko doskonalić swoje umiejętności\, ale także uczyć się adaptacji pozycji oraz technik oddechowych i medytacyjnych dla różnych potrzeb uczniów. \nKażda część programu jest prowadzona przez doświadczonych trenerów\, a kursanci mają możliwość pracy w małych grupach\, co sprzyja indywidualnemu podejściu i lepszemu zrozumieniu omawianych zagadnień. \nPraktyka na lekcjach i warsztatach podczas kursu obejmuje głównie (ale nie ogranicza się do nich)  zajęcia z Hatha Jogi\, Vinjasa Jogi\, Pranajamy\, Medytacji\, Jogi Nidry oraz Klinikę Asan. Poza poznanymi praktykami studenci odkryją historyczny kontekst Asan. Ponad 30 prowadzonych praktyk skupiających się na odkrywaniu autentycznych doświadczalnych praktyk Jogi. \nBIOMEDYCZNE PODSTAWY KSZTAŁCENIA\nW module Biomedyczne podstawy kształcenia uczestnicy zgłębią podstawy anatomii i biomechaniki ludzkiego ciała. Omówione zostaną główne kości szkieletu\, ich struktura oraz różnorodność pomiędzy osobami. W kolejnych etapach kursu uczestnicy poznają rodzaje stawów\, ich biomechanikę oraz ograniczenia ruchomości\, co pomoże w bezpiecznym wykonywaniu asan. Ważną częścią będzie nauka o rodzajach skurczów mięśni i ich wpływie na ruch. Studenci będą również zgłębiać zakres ruchu stawów (N-ROM)\, a także zrozumieją\, jak prawidłowo stabilizować stawy dla optymalnego wyrównania w praktyce asan. Moduły poświęcone będą również biomechanice oddychania\, gdzie omówione zostaną różnice między oddychaniem brzusznym a piersiowym oraz praca mięśni oddechowych. Program obejmuje także wpływ jogi na układ sercowo-naczyniowy\, trawienny i hormonalny oraz zrozumienie reakcji ciała na stres\, w tym odpowiedzi układu nerwowego. \n\nPROPEDEUTYKA I METODYKA\n\n\n\n\n\n\n\nMetodyka nauczania jogi koncentruje się na rozwijaniu umiejętności potrzebnych do skutecznego prowadzenia zajęć jogi. W ramach tej kategorii uczestnicy uczą się\, jak tworzyć i prowadzić bezpieczne oraz efektywne sekwencje w stylu hatha lub vinyasa. Program obejmuje techniki sekwencjonowania oraz planowania lekcji. \nDuży nacisk kładzie się na naukę właściwego tempowania\, przejść między pozycjami oraz dostosowywania zajęć do różnych poziomów zaawansowania. Uczestnicy zdobywają umiejętności odpowiedniego instruowania\, w tym komunikowania się\, przy jednoczesnym dbaniu o bezpieczeństwo i komfort uczestników. \nKurs obejmuje także aspekty praktyczne\, takie jak adaptacja pozycji\, praca z przyboramii\, czy zarządzanie klasą. W trakcie modułów związanych z metodyką nauczania jogi uczestnicy praktykują prowadzenie zajęć\, otrzymując regularny feedback od wykładowców oraz rówieśników\, co pozwala na stopniowe doskonalenie ich umiejętności nauczycielskich. \n\n\n\n\n\n\nHUMANISTYCZNE NAUCZANIA JOGI\nNasz kurs nauczycielski jogi oferuje kompleksowe zrozumienie podstaw filozofii i historii jogi\, dzięki czemu uczestnicy mogą zgłębiać jej różne tradycje i szkoły myślenia. W trakcie zajęć omówimy\, czym jest joga i jak różne podejścia\, takie jak hatha\, tantra czy joga klasyczna\, definiują jej istotę. Przeanalizujemy także najważniejsze epoki w historii jogi\, od prewedyjskiej po współczesną\, uwzględniając kluczowe teksty\, takie jak Bhagavad Gita\, Yoga Sutra i Hatha Yoga Pradipika. Uczestnicy poznają podstawy Ajurwedy\, co pomoże im lepiej zrozumieć swoje ciało i styl życia. Na zajęciach omówimy również aspekty etyczne związane z nauczaniem jogi\, w tym odpowiedzialność nauczyciela\, zasady yamy i niyamy oraz jak tworzyć przyjazne środowisko dla uczniów. Poprzez refleksję i dyskusje grupowe\, kursanci będą mieli szansę pogłębić swoje rozumienie jogi\, jej filozofii oraz praktycznego zastosowania tych zasad w nauczaniu. \nROZWÓJ ZAWODOWY\nRozwój zawodowy nauczyciela jogi jest integralną częścią programu. Obejmuje on aspekty profesjonalnego planowania swojej ścieżki zawodowej – w tym umiejętność budowania solidnych relacji z uczniami i zarządzania grafikiem. W trakcie kursu uczestnicy uczą się\, jak dbać o rozwój swojej kariery poprzez podnoszenie kwalifikacji oraz rozbudowanie sieci kontaktów. \nModuły poświęcone etyce zawodowej obejmują zagadnienia związane z zarządzaniem klasą\, relacjami z uczniami oraz radzeniem sobie z różnymi poziomami zaawansowania i potrzebami uczestników. Duży nacisk kładzie się na świadome budowanie środowiska\, które jest bezpieczne\, wspierające i dostępne dla wszystkich. Uczestnicy uczą się\, jak profesjonalnie podchodzić do nauczania\, uzyskiwania zgody na asysty fizyczne oraz dostosowywania praktyki do indywidualnych potrzeb uczniów. \nRozwój zawodowy to także ciągła praca nad własnymi umiejętnościami nauczycielskimi\, zdobywanie doświadczenia poprzez praktykę oraz udział w mentorskich sesjach\, które pomagają w doskonaleniu technik nauczania. \nPRAKTYCZNE NAUCZANIE JOGI\nPraktyczne nauczanie jogi zapewnia uczestnikom możliwość rozwijania swoich umiejętności poprzez bezpośrednią praktykę pod okiem doświadczonych mentorów. W trakcie kilku sesji praktycznych\, uczestnicy będą prowadzić zajęcia jogi w różnych grupach\, począwszy od pracy w parach\, przez małe grupy\, aż po pełne klasy. Każda sesja ma na celu doskonalenie konkretnych umiejętności\, takich jak sekwencjonowanie\, prowadzenie Surya Namaskar\, demonstrowanie lub prezentowanie asan czy stosowanie bezpiecznych asyst fizycznych. \nKurs oferuje również możliwość otrzymania natychmiastowej informacji zwrotnej od instruktorów oraz kolegów z grupy\, co pozwala na bieżąco doskonalić techniki prowadzenia zajęć. Praktyczne nauczanie obejmuje także elementy takie jak odpowiednie dostosowywanie asan do poziomu grupy\, uwzględnianie modyfikacji dla różnych ciał oraz udzielanie jasnych i precyzyjnych wskazówek. Ponadto uczestnicy uczą się\, jak zarządzać klasą\, uwzględniając potrzeby różnych uczniów\, oraz jak efektywnie korzystać z pomocy\, takich jak klocki czy paski. \nRegularne praktyki nauczycielskie wspierają uczestników w rozwoju pewności siebie\, a także w umiejętności reagowania na bieżące potrzeby uczniów\, co pozwala na stworzenie bezpiecznej i wspierającej atmosfery na zajęciach. \nTerminy Zjazdów​ \n \n \n  \nPONIŻEJ WYBIERZ FORMUALRZ BY ZAPISAC SIĘ NA KURS.\n\n\n\n\n\n\n\n\n\n\n\nKorzyści\n\n\n\n\n\n\n\n\n\ndyplom Yoga Alliance Registered Yoga Teacher 200hr\,\nmożliwość wyboru socjalizacji: Hatha lub Vinyasa Joga\, bądź obie bez dodatkowych kosztów\,\ndyplom ukończenia Kursu Nauczycielskiego w języku polskim i angielskim\,\ncertyfikat ukończenia w języku polskim z suplementem\,\npotwierdzenie ukończenia sygnowane przez Instytut Studiów nad Jogą DEVI SANGHAM – patronat nad Kursem\,\ndodatkowo koszulkę Instruktora.\n\nOpłaty:\n\n\n\n\n\n\n\n\n\n\n\n\n\n\n\n\n\nPrzy rejestracji na Kurs Nauczycielski\, należy uiścić bezzwrotną opłatę rekrutacyjną (250\,-) w celu rezerwacji miejsca na wyżej wymienionym kursie nauczycielskim\, która stanowi koszt administracyjny – obsługę Studenta. \n`Wybrany tryb rozliczeniowy obowiązywać będzie podczas trwania Kursu (tj. w terminach wymienionych powyżej. \n \n\n\n\n\n\n\n\n\n\n\n\n\n\n\n\n\n\n\n\n\n\n
URL:https://shala.pl/wydarzenie/ryt
LOCATION:ul. E. Orzeszkowej 14\, Gdańsk - Aniołki\, 80-208\, Poland
END:VEVENT
END:VCALENDAR